Package: decontX Version: 1.5.1 Maintainer: Joshua Campbell MaintainerEmail: camp at bu.edu git_url: https://git.bioconductor.org/packages/decontX git_branch: devel git_last_commit: 310ac52 git_last_commit_date: 2025-02-16 19:23:26 -0500 (Sun, 16 Feb 2025)