Package: decompTumor2Sig Version: 2.23.0 Command: E:\biocbuild\bbs-3.21-bioc\R\bin\R.exe CMD check --no-multiarch --install=check:decompTumor2Sig.install-out.txt --library=E:\biocbuild\bbs-3.21-bioc\R\library --no-vignettes --timings decompTumor2Sig_2.23.0.tar.gz StartedAt: 2025-02-19 00:11:08 -0500 (Wed, 19 Feb 2025) EndedAt: 2025-02-19 00:19:03 -0500 (Wed, 19 Feb 2025) EllapsedTime: 475.6 seconds RetCode: 0 Status: OK CheckDir: decompTumor2Sig.Rcheck Warnings: 0