Package: decompTumor2Sig Version: 2.23.0 Command: /Library/Frameworks/R.framework/Resources/bin/R CMD INSTALL decompTumor2Sig StartedAt: 2025-02-18 15:22:15 -0500 (Tue, 18 Feb 2025) EndedAt: 2025-02-18 15:23:11 -0500 (Tue, 18 Feb 2025) EllapsedTime: 55.6 seconds RetCode: 0 Status: OK