Package: decompTumor2Sig Version: 2.23.0 Command: /Library/Frameworks/R.framework/Resources/bin/R CMD build --keep-empty-dirs --no-resave-data decompTumor2Sig StartedAt: 2025-02-19 16:05:23 -0500 (Wed, 19 Feb 2025) EndedAt: 2025-02-19 16:45:23 -0500 (Wed, 19 Feb 2025) EllapsedTime: 2400.1 seconds RetCode: None Status: TIMEOUT PackageFile: None PackageFileSize: NA