Package: debrowser Version: 1.35.0 Command: chmod a+r debrowser -R && E:\biocbuild\bbs-3.21-bioc\R\bin\R.exe CMD build --keep-empty-dirs --no-resave-data debrowser StartedAt: 2025-02-17 18:07:41 -0500 (Mon, 17 Feb 2025) EndedAt: 2025-02-17 18:09:55 -0500 (Mon, 17 Feb 2025) EllapsedTime: 134.2 seconds RetCode: 0 Status: OK PackageFile: debrowser_1.35.0.tar.gz PackageFileSize: 18.22 MiB