Package: debrowser Version: 1.35.0 Command: /Library/Frameworks/R.framework/Resources/bin/R CMD INSTALL debrowser StartedAt: 2025-02-17 15:37:36 -0500 (Mon, 17 Feb 2025) EndedAt: 2025-02-17 15:38:39 -0500 (Mon, 17 Feb 2025) EllapsedTime: 62.2 seconds RetCode: 0 Status: OK