Package: debrowser Version: 1.35.0 Command: /Library/Frameworks/R.framework/Resources/bin/R CMD build --keep-empty-dirs --no-resave-data debrowser StartedAt: 2025-02-17 16:24:57 -0500 (Mon, 17 Feb 2025) EndedAt: 2025-02-17 16:26:34 -0500 (Mon, 17 Feb 2025) EllapsedTime: 97.1 seconds RetCode: 0 Status: OK PackageFile: debrowser_1.35.0.tar.gz PackageFileSize: 18.22 MiB