Package: debCAM Version: 1.25.0 Command: rm -rf debCAM.buildbin-libdir && mkdir debCAM.buildbin-libdir && E:\biocbuild\bbs-3.21-bioc\R\bin\R.exe CMD INSTALL --build --library=debCAM.buildbin-libdir debCAM_1.25.0.tar.gz StartedAt: 2025-02-21 07:55:40 -0500 (Fri, 21 Feb 2025) EndedAt: 2025-02-21 07:56:03 -0500 (Fri, 21 Feb 2025) EllapsedTime: 23.0 seconds RetCode: 0 Status: OK PackageFile: debCAM_1.25.0.zip PackageFileSize: 2.832 MiB