Package: debCAM Version: 1.25.0 Command: /Library/Frameworks/R.framework/Resources/bin/R CMD build --keep-empty-dirs --no-resave-data debCAM StartedAt: 2025-02-19 16:25:49 -0500 (Wed, 19 Feb 2025) EndedAt: 2025-02-19 16:33:05 -0500 (Wed, 19 Feb 2025) EllapsedTime: 436.0 seconds RetCode: 0 Status: OK PackageFile: debCAM_1.25.0.tar.gz PackageFileSize: 3.73 MiB