Package: dearseq Version: 1.19.0 Command: rm -rf dearseq.buildbin-libdir && mkdir dearseq.buildbin-libdir && E:\biocbuild\bbs-3.21-bioc\R\bin\R.exe CMD INSTALL --build --library=dearseq.buildbin-libdir dearseq_1.19.0.tar.gz StartedAt: 2025-02-19 07:17:26 -0500 (Wed, 19 Feb 2025) EndedAt: 2025-02-19 07:17:49 -0500 (Wed, 19 Feb 2025) EllapsedTime: 22.8 seconds RetCode: 0 Status: OK PackageFile: dearseq_1.19.0.zip PackageFileSize: 644.8 KiB