Package: dearseq Version: 1.19.0 Command: /home/biocbuild/bbs-3.21-bioc/R/bin/R CMD INSTALL dearseq StartedAt: 2025-02-19 15:10:25 -0500 (Wed, 19 Feb 2025) EndedAt: 2025-02-19 15:10:41 -0500 (Wed, 19 Feb 2025) EllapsedTime: 16.6 seconds RetCode: 0 Status: OK