Package: dearseq Version: 1.19.0 Command: /Library/Frameworks/R.framework/Resources/bin/R CMD check --install=check:dearseq.install-out.txt --library=/Library/Frameworks/R.framework/Resources/library --no-vignettes --timings dearseq_1.19.0.tar.gz StartedAt: 2025-02-18 19:49:37 -0500 (Tue, 18 Feb 2025) EndedAt: 2025-02-18 19:51:08 -0500 (Tue, 18 Feb 2025) EllapsedTime: 90.7 seconds RetCode: 0 Status: OK CheckDir: dearseq.Rcheck Warnings: 0