Package: dearseq Version: 1.19.0 Command: /home/biocbuild/R/R/bin/R CMD INSTALL dearseq StartedAt: 2025-01-29 20:26:05 -0000 (Wed, 29 Jan 2025) EndedAt: 2025-01-29 20:26:16 -0000 (Wed, 29 Jan 2025) EllapsedTime: 11.8 seconds RetCode: 0 Status: OK