Package: dearseq Version: 1.19.0 Command: /home/biocbuild/R/R/bin/R CMD build --keep-empty-dirs --no-resave-data dearseq StartedAt: 2025-01-28 22:18:10 -0000 (Tue, 28 Jan 2025) EndedAt: 2025-01-28 22:28:48 -0000 (Tue, 28 Jan 2025) EllapsedTime: 637.2 seconds RetCode: 0 Status: OK PackageFile: dearseq_1.19.0.tar.gz PackageFileSize: 522.8 KiB