Package: ddPCRclust Version: 1.27.0 Command: chmod a+r ddPCRclust -R && E:\biocbuild\bbs-3.21-bioc\R\bin\R.exe CMD build --keep-empty-dirs --no-resave-data ddPCRclust StartedAt: 2025-02-21 18:53:37 -0500 (Fri, 21 Feb 2025) EndedAt: 2025-02-21 18:54:34 -0500 (Fri, 21 Feb 2025) EllapsedTime: 56.6 seconds RetCode: 0 Status: OK PackageFile: ddPCRclust_1.27.0.tar.gz PackageFileSize: 1.194 MiB