Package: ddPCRclust Version: 1.27.0 Command: /Library/Frameworks/R.framework/Resources/bin/R CMD check --install=check:ddPCRclust.install-out.txt --library=/Library/Frameworks/R.framework/Resources/library --no-vignettes --timings ddPCRclust_1.27.0.tar.gz StartedAt: 2025-02-20 19:53:19 -0500 (Thu, 20 Feb 2025) EndedAt: 2025-02-20 19:56:12 -0500 (Thu, 20 Feb 2025) EllapsedTime: 173.0 seconds RetCode: 0 Status: OK CheckDir: ddPCRclust.Rcheck Warnings: 0