Package: ddPCRclust Version: 1.27.0 Command: /home/biocbuild/R/R/bin/R CMD build --keep-empty-dirs --no-resave-data ddPCRclust StartedAt: 2025-01-28 22:18:08 -0000 (Tue, 28 Jan 2025) EndedAt: 2025-01-28 22:18:49 -0000 (Tue, 28 Jan 2025) EllapsedTime: 41.0 seconds RetCode: 0 Status: OK PackageFile: ddPCRclust_1.27.0.tar.gz PackageFileSize: 1.195 MiB