Package: ddCt Version: 1.63.0 Command: chmod a+r ddCt -R && E:\biocbuild\bbs-3.21-bioc\R\bin\R.exe CMD build --keep-empty-dirs --no-resave-data ddCt StartedAt: 2025-02-19 18:13:53 -0500 (Wed, 19 Feb 2025) EndedAt: 2025-02-19 18:14:28 -0500 (Wed, 19 Feb 2025) EllapsedTime: 35.3 seconds RetCode: 0 Status: OK PackageFile: ddCt_1.63.0.tar.gz PackageFileSize: 785.5 KiB