Package: ddCt Version: 1.63.0 Command: rm -rf ddCt.buildbin-libdir && mkdir ddCt.buildbin-libdir && E:\biocbuild\bbs-3.21-bioc\R\bin\R.exe CMD INSTALL --build --library=ddCt.buildbin-libdir ddCt_1.63.0.tar.gz StartedAt: 2025-02-20 07:36:51 -0500 (Thu, 20 Feb 2025) EndedAt: 2025-02-20 07:37:29 -0500 (Thu, 20 Feb 2025) EllapsedTime: 37.3 seconds RetCode: 0 Status: OK PackageFile: ddCt_1.63.0.zip PackageFileSize: 1.012 MiB