Package: ddCt Version: 1.63.0 Command: /Library/Frameworks/R.framework/Resources/bin/R CMD INSTALL ddCt StartedAt: 2025-02-20 15:03:22 -0500 (Thu, 20 Feb 2025) EndedAt: 2025-02-20 15:03:31 -0500 (Thu, 20 Feb 2025) EllapsedTime: 8.1 seconds RetCode: 0 Status: OK