Package: ddCt Version: 1.63.0 Command: /Library/Frameworks/R.framework/Resources/bin/R CMD build --keep-empty-dirs --no-resave-data ddCt StartedAt: 2025-02-20 16:04:58 -0500 (Thu, 20 Feb 2025) EndedAt: 2025-02-20 16:05:09 -0500 (Thu, 20 Feb 2025) EllapsedTime: 10.1 seconds RetCode: 0 Status: OK PackageFile: ddCt_1.63.0.tar.gz PackageFileSize: 781.3 KiB