Package: dce Version: 1.15.1 Command: E:\biocbuild\bbs-3.21-bioc\R\bin\R.exe CMD INSTALL dce StartedAt: 2025-02-20 16:53:11 -0500 (Thu, 20 Feb 2025) EndedAt: 2025-02-20 16:54:21 -0500 (Thu, 20 Feb 2025) EllapsedTime: 70.8 seconds RetCode: 0 Status: OK