Package: dce Version: 1.15.1 Command: /home/biocbuild/bbs-3.21-bioc/R/bin/R CMD INSTALL dce StartedAt: 2025-02-19 15:25:12 -0500 (Wed, 19 Feb 2025) EndedAt: 2025-02-19 15:25:43 -0500 (Wed, 19 Feb 2025) EllapsedTime: 30.4 seconds RetCode: 0 Status: OK