Package: dce Version: 1.15.1 Command: /home/biocbuild/bbs-3.21-bioc/R/bin/R CMD build --keep-empty-dirs --no-resave-data dce StartedAt: 2025-02-19 16:53:57 -0500 (Wed, 19 Feb 2025) EndedAt: 2025-02-19 16:56:04 -0500 (Wed, 19 Feb 2025) EllapsedTime: 127.1 seconds RetCode: 1 Status: ERROR PackageFile: None PackageFileSize: NA