############################################################################## ############################################################################## ### ### Running command: ### ### /home/biocbuild/bbs-3.21-bioc/R/bin/R CMD build --keep-empty-dirs --no-resave-data dce ### ############################################################################## ############################################################################## * checking for file ‘dce/DESCRIPTION’ ... OK * preparing ‘dce’: * checking DESCRIPTION meta-information ... OK * installing the package to build vignettes ----------------------------------- ERROR: dependencies ‘epiNEM’, ‘mnem’, ‘Rgraphviz’ are not available for package ‘dce’ Perhaps try a variation of: install.packages(c('epiNEM', 'mnem', 'Rgraphviz')) * removing ‘/tmp/Rtmpx1Jdqh/Rinst13ee4847a52895/dce’ ----------------------------------- ERROR: package installation failed