Package: dce Version: 1.15.1 Command: /Library/Frameworks/R.framework/Resources/bin/R CMD INSTALL dce StartedAt: 2025-02-20 15:40:40 -0500 (Thu, 20 Feb 2025) EndedAt: 2025-02-20 15:41:24 -0500 (Thu, 20 Feb 2025) EllapsedTime: 44.1 seconds RetCode: 0 Status: OK