Package: dce Version: 1.15.1 Command: /Library/Frameworks/R.framework/Resources/bin/R CMD build --keep-empty-dirs --no-resave-data dce StartedAt: 2025-02-19 16:25:30 -0500 (Wed, 19 Feb 2025) EndedAt: 2025-02-19 16:28:10 -0500 (Wed, 19 Feb 2025) EllapsedTime: 160.1 seconds RetCode: 1 Status: ERROR PackageFile: None PackageFileSize: NA