Package: dce Version: 1.15.1 Command: /Library/Frameworks/R.framework/Resources/bin/R CMD build --keep-empty-dirs --no-resave-data dce StartedAt: 2025-02-20 16:04:54 -0500 (Thu, 20 Feb 2025) EndedAt: 2025-02-20 16:05:48 -0500 (Thu, 20 Feb 2025) EllapsedTime: 53.6 seconds RetCode: 1 Status: ERROR PackageFile: None PackageFileSize: NA