Package: dcanr Version: 1.23.0 Command: /home/biocbuild/bbs-3.21-bioc/R/bin/R CMD check --install=check:dcanr.install-out.txt --library=/home/biocbuild/bbs-3.21-bioc/R/site-library --timings dcanr_1.23.0.tar.gz StartedAt: 2025-02-19 21:24:29 -0500 (Wed, 19 Feb 2025) EndedAt: 2025-02-19 21:26:09 -0500 (Wed, 19 Feb 2025) EllapsedTime: 100.1 seconds RetCode: 0 Status: OK CheckDir: dcanr.Rcheck Warnings: 0