Package: dcanr Version: 1.23.0 Command: /Library/Frameworks/R.framework/Resources/bin/R CMD INSTALL dcanr StartedAt: 2025-02-19 15:13:53 -0500 (Wed, 19 Feb 2025) EndedAt: 2025-02-19 15:13:59 -0500 (Wed, 19 Feb 2025) EllapsedTime: 6.2 seconds RetCode: 0 Status: OK