Package: dcGSA Version: 1.35.0 Command: chmod a+r dcGSA -R && E:\biocbuild\bbs-3.21-bioc\R\bin\R.exe CMD build --keep-empty-dirs --no-resave-data dcGSA StartedAt: 2025-02-19 18:13:50 -0500 (Wed, 19 Feb 2025) EndedAt: 2025-02-19 18:13:52 -0500 (Wed, 19 Feb 2025) EllapsedTime: 2.0 seconds RetCode: 0 Status: OK PackageFile: dcGSA_1.35.0.tar.gz PackageFileSize: 37.43 KiB