Package: dcGSA Version: 1.35.0 Command: /home/biocbuild/bbs-3.21-bioc/R/bin/R CMD build --keep-empty-dirs --no-resave-data dcGSA StartedAt: 2025-02-19 16:54:08 -0500 (Wed, 19 Feb 2025) EndedAt: 2025-02-19 16:54:09 -0500 (Wed, 19 Feb 2025) EllapsedTime: 1.0 seconds RetCode: 0 Status: OK PackageFile: dcGSA_1.35.0.tar.gz PackageFileSize: 37.42 KiB