Package: daMA Version: 1.79.0 Command: /Library/Frameworks/R.framework/Resources/bin/R CMD INSTALL daMA StartedAt: 2025-02-20 15:03:50 -0500 (Thu, 20 Feb 2025) EndedAt: 2025-02-20 15:04:37 -0500 (Thu, 20 Feb 2025) EllapsedTime: 47.6 seconds RetCode: 0 Status: OK