Package: cytoviewer Version: 1.7.0 Command: E:\biocbuild\bbs-3.21-bioc\R\bin\R.exe CMD check --no-multiarch --install=check:cytoviewer.install-out.txt --library=E:\biocbuild\bbs-3.21-bioc\R\library --no-vignettes --timings cytoviewer_1.7.0.tar.gz StartedAt: 2025-02-21 00:21:53 -0500 (Fri, 21 Feb 2025) EndedAt: 2025-02-21 00:28:49 -0500 (Fri, 21 Feb 2025) EllapsedTime: 415.4 seconds RetCode: 0 Status: OK CheckDir: cytoviewer.Rcheck Warnings: 0