Package: cytoviewer Version: 1.7.0 Command: chmod a+r cytoviewer -R && E:\biocbuild\bbs-3.21-bioc\R\bin\R.exe CMD build --keep-empty-dirs --no-resave-data cytoviewer StartedAt: 2025-02-20 18:12:44 -0500 (Thu, 20 Feb 2025) EndedAt: 2025-02-20 18:14:17 -0500 (Thu, 20 Feb 2025) EllapsedTime: 92.7 seconds RetCode: 0 Status: OK PackageFile: cytoviewer_1.7.0.tar.gz PackageFileSize: 9.26 MiB