Package: cytoviewer Version: 1.7.0 Command: /home/biocbuild/bbs-3.21-bioc/R/bin/R CMD check --install=check:cytoviewer.install-out.txt --library=/home/biocbuild/bbs-3.21-bioc/R/site-library --timings cytoviewer_1.7.0.tar.gz StartedAt: 2025-02-20 21:14:14 -0500 (Thu, 20 Feb 2025) EndedAt: 2025-02-20 21:20:38 -0500 (Thu, 20 Feb 2025) EllapsedTime: 384.5 seconds RetCode: 0 Status: OK CheckDir: cytoviewer.Rcheck Warnings: 0