Package: cytoviewer Version: 1.7.0 Command: /Library/Frameworks/R.framework/Resources/bin/R CMD INSTALL cytoviewer StartedAt: 2025-02-20 15:31:46 -0500 (Thu, 20 Feb 2025) EndedAt: 2025-02-20 15:32:48 -0500 (Thu, 20 Feb 2025) EllapsedTime: 62.5 seconds RetCode: 0 Status: OK