Package: cytomapper Version: 1.19.0 Command: /home/biocbuild/bbs-3.21-bioc/R/bin/R CMD check --install=check:cytomapper.install-out.txt --library=/home/biocbuild/bbs-3.21-bioc/R/site-library --timings cytomapper_1.19.0.tar.gz StartedAt: 2025-02-18 21:13:27 -0500 (Tue, 18 Feb 2025) EndedAt: 2025-02-18 21:28:48 -0500 (Tue, 18 Feb 2025) EllapsedTime: 921.1 seconds RetCode: 0 Status: OK CheckDir: cytomapper.Rcheck Warnings: 0