Package: cytolib Version: 2.19.3 Command: /home/biocbuild/bbs-3.21-bioc/R/bin/R CMD INSTALL cytolib StartedAt: 2025-02-20 15:07:48 -0500 (Thu, 20 Feb 2025) EndedAt: 2025-02-20 15:10:12 -0500 (Thu, 20 Feb 2025) EllapsedTime: 143.9 seconds RetCode: 0 Status: OK