Package: cytolib Version: 2.19.3 Command: /Library/Frameworks/R.framework/Resources/bin/R CMD INSTALL cytolib StartedAt: 2025-02-19 15:08:32 -0500 (Wed, 19 Feb 2025) EndedAt: 2025-02-19 15:11:13 -0500 (Wed, 19 Feb 2025) EllapsedTime: 160.3 seconds RetCode: 0 Status: OK