Package: cytofQC Version: 1.7.0 Command: /Library/Frameworks/R.framework/Resources/bin/R CMD check --install=check:cytofQC.install-out.txt --library=/Library/Frameworks/R.framework/Resources/library --no-vignettes --timings cytofQC_1.7.0.tar.gz StartedAt: 2025-02-18 18:51:24 -0500 (Tue, 18 Feb 2025) EndedAt: 2025-02-18 18:53:39 -0500 (Tue, 18 Feb 2025) EllapsedTime: 134.8 seconds RetCode: 0 Status: OK CheckDir: cytofQC.Rcheck Warnings: 0