Package: cytoKernel Version: 1.13.0 Command: E:\biocbuild\bbs-3.21-bioc\R\bin\R.exe CMD check --no-multiarch --install=check:cytoKernel.install-out.txt --library=E:\biocbuild\bbs-3.21-bioc\R\library --no-vignettes --timings cytoKernel_1.13.0.tar.gz StartedAt: 2025-02-21 00:20:04 -0500 (Fri, 21 Feb 2025) EndedAt: 2025-02-21 00:24:11 -0500 (Fri, 21 Feb 2025) EllapsedTime: 247.0 seconds RetCode: 0 Status: OK CheckDir: cytoKernel.Rcheck Warnings: 0