Package: cytoKernel Version: 1.13.0 Command: chmod a+r cytoKernel -R && E:\biocbuild\bbs-3.21-bioc\R\bin\R.exe CMD build --keep-empty-dirs --no-resave-data cytoKernel StartedAt: 2025-02-20 18:11:53 -0500 (Thu, 20 Feb 2025) EndedAt: 2025-02-20 18:13:10 -0500 (Thu, 20 Feb 2025) EllapsedTime: 77.2 seconds RetCode: 0 Status: OK PackageFile: cytoKernel_1.13.0.tar.gz PackageFileSize: 660.8 KiB