Package: cytoKernel Version: 1.13.0 Command: /home/biocbuild/bbs-3.21-bioc/R/bin/R CMD check --install=check:cytoKernel.install-out.txt --library=/home/biocbuild/bbs-3.21-bioc/R/site-library --timings cytoKernel_1.13.0.tar.gz StartedAt: 2025-02-20 21:13:48 -0500 (Thu, 20 Feb 2025) EndedAt: 2025-02-20 21:17:21 -0500 (Thu, 20 Feb 2025) EllapsedTime: 213.4 seconds RetCode: 0 Status: OK CheckDir: cytoKernel.Rcheck Warnings: 0