Package: cytoKernel Version: 1.13.0 Command: /home/biocbuild/bbs-3.21-bioc/R/bin/R CMD build --keep-empty-dirs --no-resave-data cytoKernel StartedAt: 2025-02-20 17:07:22 -0500 (Thu, 20 Feb 2025) EndedAt: 2025-02-20 17:08:07 -0500 (Thu, 20 Feb 2025) EllapsedTime: 45.1 seconds RetCode: 0 Status: OK PackageFile: cytoKernel_1.13.0.tar.gz PackageFileSize: 710.4 KiB