Package: cytoKernel Version: 1.13.0 Command: /Library/Frameworks/R.framework/Resources/bin/R CMD check --install=check:cytoKernel.install-out.txt --library=/Library/Frameworks/R.framework/Resources/library --no-vignettes --timings cytoKernel_1.13.0.tar.gz StartedAt: 2025-02-21 19:26:07 -0500 (Fri, 21 Feb 2025) EndedAt: 2025-02-21 19:27:30 -0500 (Fri, 21 Feb 2025) EllapsedTime: 83.0 seconds RetCode: 0 Status: OK CheckDir: cytoKernel.Rcheck Warnings: 0