Package: cytoKernel Version: 1.13.0 Command: /Library/Frameworks/R.framework/Resources/bin/R CMD build --keep-empty-dirs --no-resave-data cytoKernel StartedAt: 2025-02-21 16:02:47 -0500 (Fri, 21 Feb 2025) EndedAt: 2025-02-21 16:03:06 -0500 (Fri, 21 Feb 2025) EllapsedTime: 18.2 seconds RetCode: 0 Status: OK PackageFile: cytoKernel_1.13.0.tar.gz PackageFileSize: 705.6 KiB