Package: cypress Version: 1.3.0 Command: chmod a+r cypress -R && E:\biocbuild\bbs-3.21-bioc\R\bin\R.exe CMD build --keep-empty-dirs --no-resave-data cypress StartedAt: 2025-02-20 18:11:16 -0500 (Thu, 20 Feb 2025) EndedAt: 2025-02-20 18:20:06 -0500 (Thu, 20 Feb 2025) EllapsedTime: 530.3 seconds RetCode: 0 Status: OK PackageFile: cypress_1.3.0.tar.gz PackageFileSize: 1.996 MiB