Package: cypress Version: 1.3.0 Command: /home/biocbuild/bbs-3.21-bioc/R/bin/R CMD build --keep-empty-dirs --no-resave-data cypress StartedAt: 2025-02-20 17:06:58 -0500 (Thu, 20 Feb 2025) EndedAt: 2025-02-20 17:12:07 -0500 (Thu, 20 Feb 2025) EllapsedTime: 309.5 seconds RetCode: 0 Status: OK PackageFile: cypress_1.3.0.tar.gz PackageFileSize: 2.616 MiB