Package: cypress Version: 1.3.0 Command: /Library/Frameworks/R.framework/Resources/bin/R CMD INSTALL cypress StartedAt: 2025-02-20 15:37:31 -0500 (Thu, 20 Feb 2025) EndedAt: 2025-02-20 15:38:10 -0500 (Thu, 20 Feb 2025) EllapsedTime: 39.0 seconds RetCode: 0 Status: OK